BEGIN:VCALENDAR
VERSION:2.0
PRODID:SchoolNow
CALSCALE:GREGORIAN
BEGIN:VEVENT
UID:180bebf2-ba79-11f0-8b2c-0a58a9feac02
DTSTAMP:20251105T185610Z
SUMMARY:CDD Board Meeting - Sept. 2026
LOCATION:Meadow Pointe III Clubhouse located at 1500 Meadow Pointe Boulevar
 d\, Wesley Chapel\, FL 33543
URL;VALUE=URI:https://www.meadowpointe3.org/calendar/8779202/cdd-board-meet
 ing-sept-2026
DTSTART:20260916T223000Z
DTEND:20260916T233000Z
END:VEVENT
END:VCALENDAR
