BEGIN:VCALENDAR
VERSION:2.0
PRODID:SchoolNow
CALSCALE:GREGORIAN
BEGIN:VEVENT
UID:0b797634-ba79-11f0-816a-0afff3d351ff
DTSTAMP:20251105T185549Z
SUMMARY:CDD Board Meeting - Aug. 2026
LOCATION:Meadow Pointe III Clubhouse located at 1500 Meadow Pointe Boulevar
 d\, Wesley Chapel\, FL 33543
URL;VALUE=URI:https://www.meadowpointe3.org/calendar/8779201/cdd-board-meet
 ing-aug-2026
DTSTART:20260819T223000Z
DTEND:20260819T233000Z
END:VEVENT
END:VCALENDAR
