BEGIN:VCALENDAR
VERSION:2.0
PRODID:SchoolNow
CALSCALE:GREGORIAN
BEGIN:VEVENT
UID:01608390-ba79-11f0-b6c9-0afffa06ec9d
DTSTAMP:20251105T185532Z
SUMMARY:CDD Board Meeting - Jul. 2026
LOCATION:Meadow Pointe III Clubhouse located at 1500 Meadow Pointe Boulevar
 d\, Wesley Chapel\, FL 33543
URL;VALUE=URI:https://www.meadowpointe3.org/calendar/8779200/cdd-board-meet
 ing-jul-2026
DTSTART:20260715T223000Z
DTEND:20260715T233000Z
END:VEVENT
END:VCALENDAR
