BEGIN:VCALENDAR
VERSION:2.0
PRODID:SchoolNow
CALSCALE:GREGORIAN
BEGIN:VEVENT
UID:f31180fa-ba78-11f0-9bd8-0a58a9feac02
DTSTAMP:20251105T185508Z
SUMMARY:CDD Board Meeting - Jun. 2026
LOCATION:Meadow Pointe III Clubhouse located at 1500 Meadow Pointe Boulevar
 d\, Wesley Chapel\, FL 33543
URL;VALUE=URI:https://www.meadowpointe3.org/calendar/8779199/cdd-board-meet
 ing-jun-2026
DTSTART:20260617T223000Z
DTEND:20260617T233000Z
END:VEVENT
END:VCALENDAR
