BEGIN:VCALENDAR
VERSION:2.0
PRODID:SchoolNow
CALSCALE:GREGORIAN
BEGIN:VEVENT
UID:e44c61c0-ba78-11f0-a15d-0a58a9feac02
DTSTAMP:20251105T185443Z
SUMMARY:CDD Board Meeting - May 2026
LOCATION:Meadow Pointe III Clubhouse located at 1500 Meadow Pointe Boulevar
 d\, Wesley Chapel\, FL 33543
URL;VALUE=URI:https://www.meadowpointe3.org/calendar/8779198/cdd-board-meet
 ing-may-2026
DTSTART:20260520T223000Z
DTEND:20260520T233000Z
END:VEVENT
END:VCALENDAR
