BEGIN:VCALENDAR
VERSION:2.0
PRODID:SchoolNow
CALSCALE:GREGORIAN
BEGIN:VEVENT
UID:d986a0de-ba78-11f0-98fb-0a58a9feac02
DTSTAMP:20260408T215722Z
SUMMARY:CDD Board Meeting - Apr. 2026
LOCATION:Meadow Pointe III Clubhouse located at 1500 Meadow Pointe Boulevar
 d\, Wesley Chapel\, FL 33543
URL;VALUE=URI:https://www.meadowpointe3.org/calendar/8779196/cdd-board-meet
 ing-apr-2026
DTSTART:20260415T223000Z
DTEND:20260415T233000Z
ATTACH;FILENAME=2026-04-15 - Meadow Pointe III CDD - Final Agenda.pdf;FMTTY
 PE=application/pdf:https://campussuite-storage.s3.amazonaws.com/prod/15591
 58/e0722864-a1a8-11ed-9819-023b7a5cbcd7/3087766/e7392f1c-3395-11f1-9112-0a
 58a9feac02/file/2026-04-15 - Meadow Pointe III CDD - Final Agenda.pdf
END:VEVENT
END:VCALENDAR
