BEGIN:VCALENDAR
VERSION:2.0
PRODID:SchoolNow
CALSCALE:GREGORIAN
BEGIN:VEVENT
UID:d003f35e-ba78-11f0-bb6f-0e56e2a97179
DTSTAMP:20260319T094859Z
SUMMARY:CDD Board Meeting - Mar. 2026
LOCATION:https://us02web.zoom.us/j/4527478885?pwd=SWJycEJVU1VjSmVvSWRVeDJlc
 WIrZz09&omn=87393916259
URL;VALUE=URI:https://www.meadowpointe3.org/calendar/8779195/cdd-board-meet
 ing-mar-2026
DTSTART:20260318T223000Z
DTEND:20260318T233000Z
ATTACH;FILENAME=2026-03-18 - Meadow Pointe III CDD - Final Agenda.pdf;FMTTY
 PE=application/pdf:https://campussuite-storage.s3.amazonaws.com/prod/15591
 58/e0722864-a1a8-11ed-9819-023b7a5cbcd7/3078499/5061ee68-1d41-11f1-8199-0a
 fffe5f63e5/file/2026-03-18 - Meadow Pointe III CDD - Final Agenda.pdf
END:VEVENT
END:VCALENDAR
