BEGIN:VCALENDAR
VERSION:2.0
PRODID:SchoolNow
CALSCALE:GREGORIAN
BEGIN:VEVENT
UID:c5a810ac-ba78-11f0-80df-0a58a9feac02
DTSTAMP:20260211T200237Z
SUMMARY:CDD Board Meeting - Feb. 2026
LOCATION:Meadow Pointe III Clubhouse located at 1500 Meadow Pointe Boulevar
 d\, Wesley Chapel\, FL 33543
URL;VALUE=URI:https://www.meadowpointe3.org/calendar/8779194/cdd-board-meet
 ing-feb-2026
DTSTART:20260218T233000Z
DTEND:20260219T003000Z
ATTACH;FILENAME=2026-02-18 - Meadow Pointe III CDD - Final Agenda.pdf;FMTTY
 PE=application/pdf:https://campussuite-storage.s3.amazonaws.com/prod/15591
 58/e0722864-a1a8-11ed-9819-023b7a5cbcd7/3069790/994334a2-0784-11f1-8557-0a
 58a9feac02/file/2026-02-18 - Meadow Pointe III CDD - Final Agenda.pdf
END:VEVENT
END:VCALENDAR
