BEGIN:VCALENDAR
VERSION:2.0
PRODID:SchoolNow
CALSCALE:GREGORIAN
BEGIN:VEVENT
UID:bcf0f26c-ba78-11f0-a740-0affd2424ac3
DTSTAMP:20260115T161142Z
SUMMARY:CDD Board Meeting - Jan. 2026
LOCATION:Meadow Pointe III Clubhouse located at 1500 Meadow Pointe Boulevar
 d\, Wesley Chapel\, FL 33543
URL;VALUE=URI:https://www.meadowpointe3.org/calendar/8779193/cdd-board-meet
 ing-jan-2026
DTSTART:20260121T233000Z
DTEND:20260122T003000Z
ATTACH;FILENAME=2026-01-21 - Meadow Pointe III CDD - Revised Final Agenda.p
 df;FMTTYPE=application/pdf:https://campussuite-storage.s3.amazonaws.com/pr
 od/1559158/e0722864-a1a8-11ed-9819-023b7a5cbcd7/3060653/dd404c52-f22c-11f0
 -aca2-0afff1174013/file/2026-01-21 - Meadow Pointe III CDD - Revised Final
  Agenda.pdf
END:VEVENT
END:VCALENDAR
