BEGIN:VCALENDAR
VERSION:2.0
PRODID:SchoolNow
CALSCALE:GREGORIAN
BEGIN:VEVENT
UID:b2324e20-ba78-11f0-86ef-02231b95ae21
DTSTAMP:20251210T203750Z
SUMMARY:CDD Board Meeting - Dec. 2025
LOCATION:Meadow Pointe III Clubhouse located at 1500 Meadow Pointe Boulevar
 d\, Wesley Chapel\, FL 33543
URL;VALUE=URI:https://www.meadowpointe3.org/calendar/8779192/cdd-board-meet
 ing-dec-2025
DTSTART:20251217T233000Z
DTEND:20251218T003000Z
ATTACH;FILENAME=2025-12-17- Meadow Pointe III CDD - Final Agenda.pdf;FMTTYP
 E=application/pdf:https://campussuite-storage.s3.amazonaws.com/prod/155915
 8/e0722864-a1a8-11ed-9819-023b7a5cbcd7/3050337/134b7c22-d608-11f0-9081-02a
 7becac357/file/2025-12-17- Meadow Pointe III CDD - Final Agenda.pdf
END:VEVENT
END:VCALENDAR
