BEGIN:VCALENDAR
VERSION:2.0
PRODID:SchoolNow
CALSCALE:GREGORIAN
BEGIN:VEVENT
UID:a9825874-ba78-11f0-91f4-0e33ce6fd91d
DTSTAMP:20251205T164120Z
SUMMARY:CDD Board Meeting - Nov. 2025
LOCATION:Meadow Pointe III Clubhouse located at 1500 Meadow Pointe Boulevar
 d\, Wesley Chapel\, FL 33543
URL;VALUE=URI:https://www.meadowpointe3.org/calendar/8779191/cdd-board-meet
 ing-nov-2025
DTSTART:20251119T233000Z
DTEND:20251120T003000Z
ATTACH;FILENAME=2025-11-19 - Meadow Pointe III CDD - Final Agenda (1).pdf;F
 MTTYPE=application/pdf:https://campussuite-storage.s3.amazonaws.com/prod/1
 559158/e0722864-a1a8-11ed-9819-023b7a5cbcd7/3048089/20f51c56-d1f9-11f0-9f3
 4-0a58a9feac02/file/2025-11-19 - Meadow Pointe III CDD - Final Agenda (1).
 pdf
END:VEVENT
END:VCALENDAR
