BEGIN:VCALENDAR
VERSION:2.0
PRODID:SchoolNow
CALSCALE:GREGORIAN
BEGIN:VEVENT
UID:dda4b3a8-a485-11f0-9a1d-0a58a9feac02
DTSTAMP:20251105T185239Z
SUMMARY:CDD Board Meeting - Oct. 2025
LOCATION:Meadow Pointe III Clubhouse located at 1500 Meadow Pointe Boulevar
 d\, Wesley Chapel\, FL 33543
URL;VALUE=URI:https://www.meadowpointe3.org/calendar/8706987/cdd-board-meet
 ing-oct-2025
DTSTART:20251015T223000Z
DTEND:20251015T233000Z
ATTACH;FILENAME=2025-10-15 - Meadow Pointe III CDD - Final Agenda.pdf;FMTTY
 PE=application/pdf:https://campussuite-storage.s3.amazonaws.com/prod/15591
 58/e0722864-a1a8-11ed-9819-023b7a5cbcd7/3019254/db78cce0-a485-11f0-a87e-0a
 58a9feac02/file/2025-10-15 - Meadow Pointe III CDD - Final Agenda.pdf
END:VEVENT
END:VCALENDAR
