BEGIN:VCALENDAR
VERSION:2.0
PRODID:SchoolNow
CALSCALE:GREGORIAN
BEGIN:VEVENT
UID:4a5b7882-63ab-11ef-b977-0a58a9feac02
DTSTAMP:20250612T195956Z
SUMMARY:CDD Board Meeting - Jun. 2025
LOCATION:Meadow Pointe III Clubhouse located at 1500 Meadow Pointe Boulevar
 d\, Wesley Chapel\, FL 33543
URL;VALUE=URI:https://www.meadowpointe3.org/calendar/6461675/cdd-board-meet
 ing-jun-2025
DTSTART:20250618T223000Z
DTEND:20250618T233000Z
ATTACH;FILENAME=2025-06-18 - Meadow Pointe III CDD - REVISED Final Agenda.p
 df;FMTTYPE=application/pdf:https://campussuite-storage.s3.amazonaws.com/pr
 od/1559158/e0722864-a1a8-11ed-9819-023b7a5cbcd7/2968420/cac5c1a2-47c7-11f0
 -905c-0a58a9feac02/file/2025-06-18 - Meadow Pointe III CDD - REVISED Final
  Agenda.pdf
END:VEVENT
END:VCALENDAR
